BEGIN:VCALENDAR
VERSION:2.0
PRODID:-//TC Deckenpfronn - ECPv6.15.20//NONSGML v1.0//EN
CALSCALE:GREGORIAN
METHOD:PUBLISH
X-WR-CALNAME:TC Deckenpfronn
X-ORIGINAL-URL:https://www.tc-deckenpfronn.de
X-WR-CALDESC:Veranstaltungen für TC Deckenpfronn
REFRESH-INTERVAL;VALUE=DURATION:PT1H
X-Robots-Tag:noindex
X-PUBLISHED-TTL:PT1H
BEGIN:VTIMEZONE
TZID:Europe/Paris
BEGIN:DAYLIGHT
TZOFFSETFROM:+0100
TZOFFSETTO:+0200
TZNAME:CEST
DTSTART:20210328T010000
END:DAYLIGHT
BEGIN:STANDARD
TZOFFSETFROM:+0200
TZOFFSETTO:+0100
TZNAME:CET
DTSTART:20211031T010000
END:STANDARD
BEGIN:DAYLIGHT
TZOFFSETFROM:+0100
TZOFFSETTO:+0200
TZNAME:CEST
DTSTART:20220327T010000
END:DAYLIGHT
BEGIN:STANDARD
TZOFFSETFROM:+0200
TZOFFSETTO:+0100
TZNAME:CET
DTSTART:20221030T010000
END:STANDARD
BEGIN:DAYLIGHT
TZOFFSETFROM:+0100
TZOFFSETTO:+0200
TZNAME:CEST
DTSTART:20230326T010000
END:DAYLIGHT
BEGIN:STANDARD
TZOFFSETFROM:+0200
TZOFFSETTO:+0100
TZNAME:CET
DTSTART:20231029T010000
END:STANDARD
END:VTIMEZONE
BEGIN:VEVENT
DTSTART;TZID=Europe/Paris:20220724T100000
DTEND;TZID=Europe/Paris:20220724T170000
DTSTAMP:20260424T091511
CREATED:20220610T110727Z
LAST-MODIFIED:20220610T110727Z
UID:2300-1658656800-1658682000@www.tc-deckenpfronn.de
SUMMARY:Herren 1 Auswärtsspiel+ Herren 2 Heimspiel+ Damen 1 Heimspiel
DESCRIPTION:Heimspiel:\nHerren 2 vs SPG KV/SG/TB Untertürkheim 3\nDamen 1 vs SPG Haiterbach/Oberschwandorf/Rohrdorf \nAuswärtsspiel:\nHerren 1 vs TC Degerloch 1
URL:https://www.tc-deckenpfronn.de/event/herren-1-auswaertsspiel-herren-2-heimspiel-damen-1-heimspiel/
END:VEVENT
END:VCALENDAR