BEGIN:VCALENDAR
VERSION:2.0
PRODID:-//TC Deckenpfronn - ECPv6.15.20//NONSGML v1.0//EN
CALSCALE:GREGORIAN
METHOD:PUBLISH
X-WR-CALNAME:TC Deckenpfronn
X-ORIGINAL-URL:https://www.tc-deckenpfronn.de
X-WR-CALDESC:Veranstaltungen für TC Deckenpfronn
REFRESH-INTERVAL;VALUE=DURATION:PT1H
X-Robots-Tag:noindex
X-PUBLISHED-TTL:PT1H
BEGIN:VTIMEZONE
TZID:Europe/Paris
BEGIN:DAYLIGHT
TZOFFSETFROM:+0100
TZOFFSETTO:+0200
TZNAME:CEST
DTSTART:20210328T010000
END:DAYLIGHT
BEGIN:STANDARD
TZOFFSETFROM:+0200
TZOFFSETTO:+0100
TZNAME:CET
DTSTART:20211031T010000
END:STANDARD
BEGIN:DAYLIGHT
TZOFFSETFROM:+0100
TZOFFSETTO:+0200
TZNAME:CEST
DTSTART:20220327T010000
END:DAYLIGHT
BEGIN:STANDARD
TZOFFSETFROM:+0200
TZOFFSETTO:+0100
TZNAME:CET
DTSTART:20221030T010000
END:STANDARD
BEGIN:DAYLIGHT
TZOFFSETFROM:+0100
TZOFFSETTO:+0200
TZNAME:CEST
DTSTART:20230326T010000
END:DAYLIGHT
BEGIN:STANDARD
TZOFFSETFROM:+0200
TZOFFSETTO:+0100
TZNAME:CET
DTSTART:20231029T010000
END:STANDARD
END:VTIMEZONE
BEGIN:VEVENT
DTSTART;TZID=Europe/Paris:20220716T140000
DTEND;TZID=Europe/Paris:20220716T200000
DTSTAMP:20260424T074447
CREATED:20220610T105422Z
LAST-MODIFIED:20220610T111346Z
UID:2288-1657980000-1658001600@www.tc-deckenpfronn.de
SUMMARY:Damen 50 Heimspiel + Herren 50 Auswärtsspiel+ Herren 40 Auswärtsspiel
DESCRIPTION:Heimspiel:\nDamen 50 vs TC Pliezhausen 1 \nAuswärtsspiel:\nHerren 50 vs TA TV Canstatt 1\nHerren 40 vs TC Maichingen 1
URL:https://www.tc-deckenpfronn.de/event/damen-50-heimspiel-tc-pliezhausen-1/
END:VEVENT
END:VCALENDAR