BEGIN:VCALENDAR
VERSION:2.0
PRODID:-//TC Deckenpfronn - ECPv6.15.20//NONSGML v1.0//EN
CALSCALE:GREGORIAN
METHOD:PUBLISH
X-WR-CALNAME:TC Deckenpfronn
X-ORIGINAL-URL:https://www.tc-deckenpfronn.de
X-WR-CALDESC:Veranstaltungen für TC Deckenpfronn
REFRESH-INTERVAL;VALUE=DURATION:PT1H
X-Robots-Tag:noindex
X-PUBLISHED-TTL:PT1H
BEGIN:VTIMEZONE
TZID:Europe/Paris
BEGIN:DAYLIGHT
TZOFFSETFROM:+0100
TZOFFSETTO:+0200
TZNAME:CEST
DTSTART:20210328T010000
END:DAYLIGHT
BEGIN:STANDARD
TZOFFSETFROM:+0200
TZOFFSETTO:+0100
TZNAME:CET
DTSTART:20211031T010000
END:STANDARD
BEGIN:DAYLIGHT
TZOFFSETFROM:+0100
TZOFFSETTO:+0200
TZNAME:CEST
DTSTART:20220327T010000
END:DAYLIGHT
BEGIN:STANDARD
TZOFFSETFROM:+0200
TZOFFSETTO:+0100
TZNAME:CET
DTSTART:20221030T010000
END:STANDARD
BEGIN:DAYLIGHT
TZOFFSETFROM:+0100
TZOFFSETTO:+0200
TZNAME:CEST
DTSTART:20230326T010000
END:DAYLIGHT
BEGIN:STANDARD
TZOFFSETFROM:+0200
TZOFFSETTO:+0100
TZNAME:CET
DTSTART:20231029T010000
END:STANDARD
END:VTIMEZONE
BEGIN:VEVENT
DTSTART;TZID=Europe/Paris:20220702T140000
DTEND;TZID=Europe/Paris:20220702T200000
DTSTAMP:20260424T091717
CREATED:20220610T105307Z
LAST-MODIFIED:20220610T111820Z
UID:2284-1656770400-1656792000@www.tc-deckenpfronn.de
SUMMARY:Damen 50 Heimspiel+ Herren 50 Auswärtsspiel + Herren 40 Auswärtsspiel
DESCRIPTION:Heimspiel:\nDamen 50 vs SPG TC Gäufelden/Nebringen 1 \nAuswärtsspiel:\nHerren 50 vs TC Schönaich 2\nHerren 40 vs TC Muckensturm 2
URL:https://www.tc-deckenpfronn.de/event/damen-50-heimspiel-spg-tc-gaeufelden-nebringen-1/
END:VEVENT
END:VCALENDAR